BEGIN:VCALENDAR
VERSION:2.0
PRODID:-//Plone.org//NONSGML plone.app.event//EN
X-WR-TIMEZONE:Europe/Madrid
BEGIN:VEVENT
SUMMARY:Sortida de la Colla de Geganters a Tudela
DTSTART;TZID=Europe/Madrid;VALUE=DATE-TIME:20090726T060000
DTEND;TZID=Europe/Madrid;VALUE=DATE-TIME:20090726T070000
DTSTAMP;VALUE=DATE-TIME:20260422T061611Z
UID:17f0f3fe40d03e0b1bb64e8929e63b96
CREATED;VALUE=DATE-TIME:20090726T000000Z
CATEGORIES:Mostra,Agenda cultural
ORGANIZER:Colla de Geganters de Sant Vicenç de Montalt
URL:https://www.svmontalt.cat/document.php?id=3143
END:VEVENT
END:VCALENDAR