BEGIN:VCALENDAR
VERSION:2.0
PRODID:-//Plone.org//NONSGML plone.app.event//EN
X-WR-TIMEZONE:Europe/Madrid
BEGIN:VEVENT
SUMMARY:Sortida de les Puntaires a Sant Andreu de Llavaneres
DTSTART;TZID=Europe/Madrid;VALUE=DATE-TIME:20090712T080000
DTEND;TZID=Europe/Madrid;VALUE=DATE-TIME:20090712T090000
DTSTAMP;VALUE=DATE-TIME:20260422T042953Z
UID:36ba28b317ab1e79910962bc4808d146
CREATED;VALUE=DATE-TIME:20090712T000000Z
CATEGORIES:Mostra,Agenda cultural
ORGANIZER:Associació de Puntaires de Sant Vicenç de Montalt
URL:https://www.svmontalt.cat/document.php?id=3144
END:VEVENT
END:VCALENDAR