BEGIN:VCALENDAR
VERSION:2.0
PRODID:-//Plone.org//NONSGML plone.app.event//EN
X-WR-TIMEZONE:Europe/Madrid
BEGIN:VEVENT
SUMMARY:XIII Trobada de Puntaires
DTSTART;TZID=Europe/Madrid;VALUE=DATE-TIME:20090705T100000
DTEND;TZID=Europe/Madrid;VALUE=DATE-TIME:20090705T110000
DTSTAMP;VALUE=DATE-TIME:20260422T055536Z
UID:a4bc0082379cc4174b74948757b846a7
CREATED;VALUE=DATE-TIME:20090705T000000Z
CATEGORIES:Mostra,Agenda cultural
LOCATION:Plaça del Poble
ORGANIZER:Associació de Puntaires de Sant Vicenç amb el suport de la Regidoria de Cultura
COMMENT:Preu: Gratuït
URL:https://www.svmontalt.cat/document.php?id=3147
END:VEVENT
END:VCALENDAR