BEGIN:VCALENDAR
VERSION:2.0
PRODID:-//Plone.org//NONSGML plone.app.event//EN
X-WR-TIMEZONE:Europe/Madrid
BEGIN:VEVENT
SUMMARY:Contes a la platja: Els pirates de la platja
DTSTART;TZID=Europe/Madrid;VALUE=DATE-TIME:20090731T180000
DTEND;TZID=Europe/Madrid;VALUE=DATE-TIME:20090731T190000
DTSTAMP;VALUE=DATE-TIME:20260426T003416Z
UID:605b9e6f8ad9ba5e37b29737608f7680
CREATED;VALUE=DATE-TIME:20090731T000000Z
CATEGORIES:Infantils
LOCATION:Platja de Sant Vicenç
ORGANIZER:Ajuntament de Sant Vicenç de Montalt i Diputació de Barcelona
COMMENT:Preu: Gratuït
URL:https://www.svmontalt.cat/document.php?id=3197
END:VEVENT
END:VCALENDAR