BEGIN:VCALENDAR
VERSION:2.0
PRODID:-//Plone.org//NONSGML plone.app.event//EN
X-WR-TIMEZONE:Europe/Madrid
BEGIN:VEVENT
SUMMARY:Sortida de les Puntaires a Argentona
DTSTART;TZID=Europe/Madrid;VALUE=DATE-TIME:20090804T090000
DTEND;TZID=Europe/Madrid;VALUE=DATE-TIME:20090804T100000
DTSTAMP;VALUE=DATE-TIME:20260422T043038Z
UID:9bd0470c53331d3429e0fa7de1671b08
CREATED;VALUE=DATE-TIME:20090804T000000Z
CATEGORIES:Mostra,Agenda cultural
ORGANIZER:Associació de Puntaires de Sant Vicenç de Montalt
URL:https://www.svmontalt.cat/document.php?id=3200
END:VEVENT
END:VCALENDAR