BEGIN:VCALENDAR
VERSION:2.0
PRODID:-//Plone.org//NONSGML plone.app.event//EN
X-WR-TIMEZONE:Europe/Madrid
BEGIN:VEVENT
SUMMARY:Ball de Festa Major amb el Conjunt Premium
DTSTART;TZID=Europe/Madrid;VALUE=DATE-TIME:20090814T233000
DTEND;TZID=Europe/Madrid;VALUE=DATE-TIME:20090815T003000
DTSTAMP;VALUE=DATE-TIME:20260422T030939Z
UID:8ff1de8331453fb38c9c2ed99a8f0259
CREATED;VALUE=DATE-TIME:20090814T000000Z
CATEGORIES:Festa,Agenda cultural
LOCATION:Pista annexa al Pavelló Municipal Toni Sors
ORGANIZER:Regidoria de Cultura
URL:https://www.svmontalt.cat/document.php?id=3206
END:VEVENT
END:VCALENDAR