BEGIN:VCALENDAR
VERSION:2.0
PRODID:-//Plone.org//NONSGML plone.app.event//EN
X-WR-TIMEZONE:Europe/Madrid
BEGIN:VEVENT
SUMMARY:Ballada de sardanes i Vermut popular
DTSTART;TZID=Europe/Madrid;VALUE=DATE-TIME:20090815T130000
DTEND;TZID=Europe/Madrid;VALUE=DATE-TIME:20090815T140000
DTSTAMP;VALUE=DATE-TIME:20260422T045032Z
UID:96d4e303ad8b061f898b343d39742c55
CREATED;VALUE=DATE-TIME:20090815T000000Z
CATEGORIES:Festa,Agenda cultural
LOCATION:Plaça del Poble
ORGANIZER:Regidoria de Cultura
COMMENT:Preu: Gratuït
DESCRIPTION:Amb la Cobla Premià
URL:https://www.svmontalt.cat/document.php?id=3210
END:VEVENT
END:VCALENDAR