BEGIN:VCALENDAR
VERSION:2.0
PRODID:-//Plone.org//NONSGML plone.app.event//EN
X-WR-TIMEZONE:Europe/Madrid
BEGIN:VEVENT
SUMMARY:Ball de Festa Major amb el Duo Nova Gamma
DTSTART;TZID=Europe/Madrid;VALUE=DATE-TIME:20090815T230000
DTEND;TZID=Europe/Madrid;VALUE=DATE-TIME:20090816T000000
DTSTAMP;VALUE=DATE-TIME:20260422T014622Z
UID:22247452bc69ee994dee6014fa3e4524
CREATED;VALUE=DATE-TIME:20090815T000000Z
CATEGORIES:Festa,Agenda cultural
LOCATION:Montaltpark
ORGANIZER:Regidoria de Cultura
URL:https://www.svmontalt.cat/document.php?id=3213
END:VEVENT
END:VCALENDAR