BEGIN:VCALENDAR
VERSION:2.0
PRODID:-//Plone.org//NONSGML plone.app.event//EN
X-WR-TIMEZONE:Europe/Madrid
BEGIN:VEVENT
SUMMARY:Sortida de la Colla de Geganters a Cornudella de Montsant
DTSTART;TZID=Europe/Madrid;VALUE=DATE-TIME:20090823T070000
DTEND;TZID=Europe/Madrid;VALUE=DATE-TIME:20090823T080000
DTSTAMP;VALUE=DATE-TIME:20260422T073019Z
UID:2d912010aa1ffb64775529bc2351e750
CREATED;VALUE=DATE-TIME:20090823T000000Z
CATEGORIES:Mostra,Agenda cultural
ORGANIZER:Colla de Geganters de Sant Vicenç de Montalt
URL:https://www.svmontalt.cat/document.php?id=3219
END:VEVENT
END:VCALENDAR