BEGIN:VCALENDAR
VERSION:2.0
PRODID:-//Plone.org//NONSGML plone.app.event//EN
X-WR-TIMEZONE:Europe/Madrid
BEGIN:VEVENT
SUMMARY:Sortida de la Colla de Geganters a La Seu d'Urgell
DTSTART;TZID=Europe/Madrid;VALUE=DATE-TIME:20090829T070000
DTEND;TZID=Europe/Madrid;VALUE=DATE-TIME:20090829T080000
DTSTAMP;VALUE=DATE-TIME:20260422T061557Z
UID:230961d2ed300d45e0fac5c57e3d5ae9
CREATED;VALUE=DATE-TIME:20090829T000000Z
CATEGORIES:Mostra,Agenda cultural
ORGANIZER:Colla de Geganters de Sant Vicenç de Montalt
URL:https://www.svmontalt.cat/document.php?id=3220
END:VEVENT
END:VCALENDAR