BEGIN:VCALENDAR
VERSION:2.0
PRODID:-//Plone.org//NONSGML plone.app.event//EN
X-WR-TIMEZONE:Europe/Madrid
BEGIN:VEVENT
SUMMARY:Sortida de la Colla de Geganters a Caldes d'Estrac
DTSTART;TZID=Europe/Madrid;VALUE=DATE-TIME:20090905T160000
DTEND;TZID=Europe/Madrid;VALUE=DATE-TIME:20090905T170000
DTSTAMP;VALUE=DATE-TIME:20260422T043053Z
UID:367b56770cb5fcfe0121fa6ecb3fc633
CREATED;VALUE=DATE-TIME:20090905T000000Z
CATEGORIES:Mostra,Agenda cultural
ORGANIZER:Colla de Geganters de Sant Vicenç de Montalt
URL:https://www.svmontalt.cat/document.php?id=3263
END:VEVENT
END:VCALENDAR