BEGIN:VCALENDAR
VERSION:2.0
PRODID:-//Plone.org//NONSGML plone.app.event//EN
X-WR-TIMEZONE:Europe/Madrid
BEGIN:VEVENT
SUMMARY:Sortida de la Colla de Geganters a Taradell
DTSTART;TZID=Europe/Madrid;VALUE=DATE-TIME:20090927T070000
DTEND;TZID=Europe/Madrid;VALUE=DATE-TIME:20090927T080000
DTSTAMP;VALUE=DATE-TIME:20260422T072502Z
UID:5fefa4f860a08be4973eb9e03e9a7c19
CREATED;VALUE=DATE-TIME:20090927T000000Z
CATEGORIES:Mostra,Agenda cultural
ORGANIZER:Colla de Geganters de Sant Vicenç de Montalt
URL:https://www.svmontalt.cat/document.php?id=3264
END:VEVENT
END:VCALENDAR