BEGIN:VCALENDAR
VERSION:2.0
PRODID:-//Plone.org//NONSGML plone.app.event//EN
X-WR-TIMEZONE:Europe/Madrid
BEGIN:VEVENT
SUMMARY:Taller de plantes medicinals
DTSTART;TZID=Europe/Madrid;VALUE=DATE-TIME:20090921T180000
DTEND;TZID=Europe/Madrid;VALUE=DATE-TIME:20090921T190000
DTSTAMP;VALUE=DATE-TIME:20260424T195349Z
UID:5ab431a55ed9fb65fa6f7b32c38dd890
CREATED;VALUE=DATE-TIME:20090921T000000Z
CATEGORIES:Cursos,Agenda cultural
LOCATION:Centre Cívic El Gorg
ORGANIZER:Associació de Gent Gran Els Xurravins en col·laboració amb l'Ajuntament de Sant Vicenç de Montalt i Fundació La Caixa
COMMENT:Preu: Gratuït (cal inscripció prèvia)
Durada: De 18 a 19.30h
URL:https://www.svmontalt.cat/document.php?id=3269
END:VEVENT
END:VCALENDAR