BEGIN:VCALENDAR
VERSION:2.0
PRODID:-//Plone.org//NONSGML plone.app.event//EN
X-WR-TIMEZONE:Europe/Madrid
BEGIN:VEVENT
SUMMARY:L'escola Sot del Camp dóna la benvinguda al nou curs amb una festa
DTSTART;TZID=Europe/Madrid;VALUE=DATE-TIME:20090925T170000
DTEND;TZID=Europe/Madrid;VALUE=DATE-TIME:20090925T180000
DTSTAMP;VALUE=DATE-TIME:20260420T183654Z
UID:86fd1e52cec19d53a72014e1db9da183
CREATED;VALUE=DATE-TIME:20090925T000000Z
CATEGORIES:Festa,Agenda cultural
LOCATION:CEIP Sot del Camp
ORGANIZER:CEIP i AMPA Sot del Camp
URL:https://www.svmontalt.cat/document.php?id=3307
END:VEVENT
END:VCALENDAR