BEGIN:VCALENDAR
VERSION:2.0
PRODID:-//Plone.org//NONSGML plone.app.event//EN
X-WR-TIMEZONE:Europe/Madrid
BEGIN:VEVENT
SUMMARY:Vine a ballar al Cívic!
DTSTART;TZID=Europe/Madrid;VALUE=DATE-TIME:20090927T180000
DTEND;TZID=Europe/Madrid;VALUE=DATE-TIME:20090927T190000
DTSTAMP;VALUE=DATE-TIME:20260422T013354Z
UID:7102074af7c8ce889c91983eea56aa2b
CREATED;VALUE=DATE-TIME:20090927T000000Z
CATEGORIES:Dansa,Agenda cultural
LOCATION:Centre Cívic El Gorg
ORGANIZER:Regidoria de Cultura
COMMENT:Preu: Gratuït
URL:https://www.svmontalt.cat/document.php?id=3308
END:VEVENT
END:VCALENDAR