BEGIN:VCALENDAR
VERSION:2.0
PRODID:-//Plone.org//NONSGML plone.app.event//EN
X-WR-TIMEZONE:Europe/Madrid
BEGIN:VEVENT
SUMMARY:Club de Feina
DTSTART;TZID=Europe/Madrid;VALUE=DATE-TIME:20090930T100000
DTEND;TZID=Europe/Madrid;VALUE=DATE-TIME:20090930T110000
DTSTAMP;VALUE=DATE-TIME:20260421T154658Z
UID:d85cd9a05841ac6f473322907ce371df
CREATED;VALUE=DATE-TIME:20090930T000000Z
LOCATION:Telecentre
ORGANIZER:Regidoria de Promoció Econòmica
COMMENT:Preu: Gratuït
Durada: De 10 del matí a 1 del migdia
URL:https://www.svmontalt.cat/document.php?id=3309
END:VEVENT
END:VCALENDAR