BEGIN:VCALENDAR
VERSION:2.0
PRODID:-//Plone.org//NONSGML plone.app.event//EN
X-WR-TIMEZONE:Europe/Madrid
BEGIN:VEVENT
SUMMARY:Club de Feina
DTSTART;TZID=Europe/Madrid;VALUE=DATE-TIME:20091014T100000
DTEND;TZID=Europe/Madrid;VALUE=DATE-TIME:20091014T110000
DTSTAMP;VALUE=DATE-TIME:20260421T020134Z
UID:e92900f5de1130492871321f9fe60257
CREATED;VALUE=DATE-TIME:20091014T000000Z
LOCATION:Telecentre
ORGANIZER:Regidoria de Promoció Econòmica
COMMENT:Preu: Gratuït
Durada: De 10 del matí a 1 del migdia
URL:https://www.svmontalt.cat/document.php?id=3311
END:VEVENT
END:VCALENDAR