BEGIN:VCALENDAR
VERSION:2.0
PRODID:-//Plone.org//NONSGML plone.app.event//EN
X-WR-TIMEZONE:Europe/Madrid
BEGIN:VEVENT
SUMMARY:Curs de balls de saló
DTSTART;TZID=Europe/Madrid;VALUE=DATE-TIME:20090918T200000
DTEND;TZID=Europe/Madrid;VALUE=DATE-TIME:20090918T210000
DTSTAMP;VALUE=DATE-TIME:20260422T013339Z
UID:70fea86613f04b8e548245d3329911ff
CREATED;VALUE=DATE-TIME:20090918T000000Z
CATEGORIES:Cursos,Agenda cultural
LOCATION:Centre Cívic El Gorg
ORGANIZER:Associació de Gent Gran Els Xurravins en col·laboració amb l'Ajuntament de Sant Vicenç de Montalt i Fundació La Caixa
COMMENT:Preu: Gratuït (cal inscripció prèvia)
Durada: De 20 a 21.30h
URL:https://www.svmontalt.cat/document.php?id=3337
END:VEVENT
END:VCALENDAR