BEGIN:VCALENDAR
VERSION:2.0
PRODID:-//Plone.org//NONSGML plone.app.event//EN
X-WR-TIMEZONE:Europe/Madrid
BEGIN:VEVENT
SUMMARY:Curs de balls de saló
DTSTART;TZID=Europe/Madrid;VALUE=DATE-TIME:20091016T200000
DTEND;TZID=Europe/Madrid;VALUE=DATE-TIME:20091016T210000
DTSTAMP;VALUE=DATE-TIME:20260422T074925Z
UID:b37889005f0cc977568a0301e6f6fc0a
CREATED;VALUE=DATE-TIME:20091016T000000Z
CATEGORIES:Cursos,Agenda cultural
LOCATION:Centre Cívic El Gorg
ORGANIZER:Associació de Gent Gran Els Xurravins en col·laboració amb l'Ajuntament de Sant Vicenç de Montalt i Fundació La Caixa
COMMENT:Preu: Gratuït (cal inscripció prèvia)
Durada: De 20 a 21.30h
URL:https://www.svmontalt.cat/document.php?id=3341
END:VEVENT
END:VCALENDAR