BEGIN:VCALENDAR
VERSION:2.0
PRODID:-//Plone.org//NONSGML plone.app.event//EN
X-WR-TIMEZONE:Europe/Madrid
BEGIN:VEVENT
SUMMARY:Curs de balls de saló
DTSTART;TZID=Europe/Madrid;VALUE=DATE-TIME:20091023T200000
DTEND;TZID=Europe/Madrid;VALUE=DATE-TIME:20091023T210000
DTSTAMP;VALUE=DATE-TIME:20260422T054058Z
UID:cad4041c92441c5891207a4b8dbd4e16
CREATED;VALUE=DATE-TIME:20091023T000000Z
CATEGORIES:Cursos,Agenda cultural
LOCATION:Centre Cívic El Gorg
ORGANIZER:Associació de Gent Gran Els Xurravins en col·laboració amb l'Ajuntament de Sant Vicenç de Montalt i Fundació La Caixa
COMMENT:Preu: Gratuït (cal inscripció prèvia)
Durada: De 20 a 21.30h
URL:https://www.svmontalt.cat/document.php?id=3342
END:VEVENT
END:VCALENDAR