BEGIN:VCALENDAR
VERSION:2.0
PRODID:-//Plone.org//NONSGML plone.app.event//EN
X-WR-TIMEZONE:Europe/Madrid
BEGIN:VEVENT
SUMMARY:Vine a ballar al Cívic i celebra amb nosaltres la Castanyada '09
DTSTART;TZID=Europe/Madrid;VALUE=DATE-TIME:20091025T180000
DTEND;TZID=Europe/Madrid;VALUE=DATE-TIME:20091025T190000
DTSTAMP;VALUE=DATE-TIME:20260422T080249Z
UID:efc2b7913343b10744ef6f56046fb198
CREATED;VALUE=DATE-TIME:20091025T000000Z
CATEGORIES:Dansa,Agenda cultural
LOCATION:Centre Cívic El Gorg
ORGANIZER:Regidoria de Cultura
COMMENT:Preu: 5 euros
URL:https://www.svmontalt.cat/document.php?id=3364
END:VEVENT
END:VCALENDAR