BEGIN:VCALENDAR
VERSION:2.0
PRODID:-//Plone.org//NONSGML plone.app.event//EN
X-WR-TIMEZONE:Europe/Madrid
BEGIN:VEVENT
SUMMARY:Sortida de la Colla de Geganters a Premià de Dalt
DTSTART;TZID=Europe/Madrid;VALUE=DATE-TIME:20091004T100000
DTEND;TZID=Europe/Madrid;VALUE=DATE-TIME:20091004T110000
DTSTAMP;VALUE=DATE-TIME:20260422T043008Z
UID:3bc200147831fd017ee2bcf23e5abcd0
CREATED;VALUE=DATE-TIME:20091004T000000Z
CATEGORIES:Mostra,Agenda cultural
ORGANIZER:Colla de Geganters de Sant Vicenç de Montalt
DESCRIPTION:XIX Trobada Comarcal i elecció de la Geganta Pubilla 2009
URL:https://www.svmontalt.cat/document.php?id=3366
END:VEVENT
END:VCALENDAR