BEGIN:VCALENDAR
VERSION:2.0
PRODID:-//Plone.org//NONSGML plone.app.event//EN
X-WR-TIMEZONE:Europe/Madrid
BEGIN:VEVENT
SUMMARY:Xerrada-taller: Els canvis: la sexualitat i l´afectivitat a l´adolescència
DTSTART;TZID=Europe/Madrid;VALUE=DATE-TIME:20091006T180000
DTEND;TZID=Europe/Madrid;VALUE=DATE-TIME:20091006T190000
DTSTAMP;VALUE=DATE-TIME:20260424T183717Z
UID:6989ffb597cbb60a71d329d093fba554
CREATED;VALUE=DATE-TIME:20091006T000000Z
CATEGORIES:Conferència,Agenda cultural
LOCATION:Centre Cívic El Gorg
ORGANIZER:AMPES dels CEIPs Sant Jordi i Sot del Camp i de l'Institut de Sant Vicenç de Montalt
COMMENT:Preu: Gratuït
DESCRIPTION:Adreçada a pares i mares amb fills i filles adolescents
URL:https://www.svmontalt.cat/document.php?id=3374
END:VEVENT
END:VCALENDAR