BEGIN:VCALENDAR
VERSION:2.0
PRODID:-//Plone.org//NONSGML plone.app.event//EN
X-WR-TIMEZONE:Europe/Madrid
BEGIN:VEVENT
SUMMARY:Xerrada-col·loqui: La cuina de Sant Vicenç
DTSTART;TZID=Europe/Madrid;VALUE=DATE-TIME:20091014T180000
DTEND;TZID=Europe/Madrid;VALUE=DATE-TIME:20091014T190000
DTSTAMP;VALUE=DATE-TIME:20260424T174306Z
UID:ac636f24f72b7282bdd2e9dca65ecc03
CREATED;VALUE=DATE-TIME:20091014T000000Z
CATEGORIES:Conferència,Agenda cultural
LOCATION:Casal de la Gent Gran Els Xurravins
ORGANIZER:Associació de Gent Gran Els Xurravins
COMMENT:Preu: Gratuït
URL:https://www.svmontalt.cat/document.php?id=3376
END:VEVENT
END:VCALENDAR