BEGIN:VCALENDAR
VERSION:2.0
PRODID:-//Plone.org//NONSGML plone.app.event//EN
X-WR-TIMEZONE:Europe/Madrid
BEGIN:VEVENT
SUMMARY:Sortida al CaixaForum
DTSTART;TZID=Europe/Madrid;VALUE=DATE-TIME:20091007T160000
DTEND;TZID=Europe/Madrid;VALUE=DATE-TIME:20091007T170000
DTSTAMP;VALUE=DATE-TIME:20260424T184045Z
UID:e9772d95c741b5ddb3d63fba18765cea
CREATED;VALUE=DATE-TIME:20091007T000000Z
CATEGORIES:Conferència,Agenda cultural
LOCATION:Davant del Centre Cívic El Gorg
ORGANIZER:Associació de gent Gran Els Xurravins en col·laboració amb Fundació "la Caixa"
COMMENT:Preu: Gratuït
DESCRIPTION:Conferència: "El rellotge biològic"
URL:https://www.svmontalt.cat/document.php?id=3394
END:VEVENT
END:VCALENDAR