BEGIN:VCALENDAR
VERSION:2.0
PRODID:-//Plone.org//NONSGML plone.app.event//EN
X-WR-TIMEZONE:Europe/Madrid
BEGIN:VEVENT
SUMMARY:Vine a ballar al Cívic!
DTSTART;TZID=Europe/Madrid;VALUE=DATE-TIME:20091129T180000
DTEND;TZID=Europe/Madrid;VALUE=DATE-TIME:20091129T190000
DTSTAMP;VALUE=DATE-TIME:20260421T222700Z
UID:ac172a3a6312a6792690621d1521a276
CREATED;VALUE=DATE-TIME:20091129T000000Z
CATEGORIES:Dansa,Agenda cultural
LOCATION:Centre Cívic El Gorg
ORGANIZER:Regidoria de Cultura
COMMENT:Preu: Gratuït
URL:https://www.svmontalt.cat/document.php?id=3458
END:VEVENT
END:VCALENDAR