BEGIN:VCALENDAR
VERSION:2.0
PRODID:-//Plone.org//NONSGML plone.app.event//EN
X-WR-TIMEZONE:Europe/Madrid
BEGIN:VEVENT
SUMMARY:Sortida de la Colla de Geganters a Puig-Reig
DTSTART;TZID=Europe/Madrid;VALUE=DATE-TIME:20091108T100000
DTEND;TZID=Europe/Madrid;VALUE=DATE-TIME:20091108T110000
DTSTAMP;VALUE=DATE-TIME:20260422T091514Z
UID:0f0950689c794e1763da0f811b6b1253
CREATED;VALUE=DATE-TIME:20091108T000000Z
CATEGORIES:Mostra,Agenda cultural
ORGANIZER:Colla de Geganters de Sant Vicenç de Montalt
URL:https://www.svmontalt.cat/document.php?id=3469
END:VEVENT
END:VCALENDAR