BEGIN:VCALENDAR
VERSION:2.0
PRODID:-//Plone.org//NONSGML plone.app.event//EN
X-WR-TIMEZONE:Europe/Madrid
BEGIN:VEVENT
SUMMARY:Xerrada: Fisioteràpia respiratòria pediàtrica
DTSTART;TZID=Europe/Madrid;VALUE=DATE-TIME:20091105T203000
DTEND;TZID=Europe/Madrid;VALUE=DATE-TIME:20091105T213000
DTSTAMP;VALUE=DATE-TIME:20260424T195334Z
UID:19373613cd53fa989225805807a89832
CREATED;VALUE=DATE-TIME:20091105T000000Z
CATEGORIES:Conferència,Agenda cultural
LOCATION:Centre Cívic El Gorg
ORGANIZER:AMPA de l'Escola Bressol Municipal Els Garrofers
COMMENT:Preu: Gratuïta
URL:https://www.svmontalt.cat/document.php?id=3474
END:VEVENT
END:VCALENDAR