BEGIN:VCALENDAR
VERSION:2.0
PRODID:-//Plone.org//NONSGML plone.app.event//EN
X-WR-TIMEZONE:Europe/Madrid
BEGIN:VEVENT
SUMMARY:Xerrada-col·loqui: La cuina de Sant Vicenç
DTSTART;TZID=Europe/Madrid;VALUE=DATE-TIME:20091111T180000
DTEND;TZID=Europe/Madrid;VALUE=DATE-TIME:20091111T190000
DTSTAMP;VALUE=DATE-TIME:20260424T172409Z
UID:e0cf33bcbc15484ad4c7e4f8f76f5fde
CREATED;VALUE=DATE-TIME:20091111T000000Z
CATEGORIES:Conferència,Agenda cultural
LOCATION:Casal de la Gent Gran Els Xurravins
ORGANIZER:Associació de Gent Gran Els Xurravins
COMMENT:Preu: Gratuïta
URL:https://www.svmontalt.cat/document.php?id=3475
END:VEVENT
END:VCALENDAR