BEGIN:VCALENDAR
VERSION:2.0
PRODID:-//Plone.org//NONSGML plone.app.event//EN
X-WR-TIMEZONE:Europe/Madrid
BEGIN:VEVENT
SUMMARY:Conferència: Adolescents
DTSTART;TZID=Europe/Madrid;VALUE=DATE-TIME:20091109T190000
DTEND;TZID=Europe/Madrid;VALUE=DATE-TIME:20091109T200000
DTSTAMP;VALUE=DATE-TIME:20260424T185618Z
UID:31c6a6efda265e74ab75e551c93d30a1
CREATED;VALUE=DATE-TIME:20091109T000000Z
CATEGORIES:Conferència,Agenda cultural
LOCATION:Centre Cívic El Gorg
ORGANIZER:AMPA de l'Institut de Sant Vicenç de Montalt
COMMENT:Preu: Gratuïta
DESCRIPTION:A càrrec de Jordi Royo
URL:https://www.svmontalt.cat/document.php?id=3478
END:VEVENT
END:VCALENDAR