BEGIN:VCALENDAR
VERSION:2.0
PRODID:-//Plone.org//NONSGML plone.app.event//EN
X-WR-TIMEZONE:Europe/Madrid
BEGIN:VEVENT
SUMMARY:L´àvia Remei serà dimecres al Casal de la Gent Gran per participar a &#147;La cuina dels Sant Vicenç&#148;
DTSTART;TZID=Europe/Madrid;VALUE=DATE-TIME:20091216T180000
DTEND;TZID=Europe/Madrid;VALUE=DATE-TIME:20091216T190000
DTSTAMP;VALUE=DATE-TIME:20260424T183301Z
UID:7402e59586aa5b1d76e97079c67cfe94
CREATED;VALUE=DATE-TIME:20091216T000000Z
CATEGORIES:Conferència,Agenda cultural
LOCATION:Casal de la Gent Gran Els Xurravins
ORGANIZER:Associació de Gent Gran Els Xurravins
COMMENT:Preu: Gratuïta
URL:https://www.svmontalt.cat/document.php?id=3579
END:VEVENT
END:VCALENDAR