BEGIN:VCALENDAR
VERSION:2.0
PRODID:-//Plone.org//NONSGML plone.app.event//EN
X-WR-TIMEZONE:Europe/Madrid
BEGIN:VEVENT
SUMMARY:Curs de català
DTSTART;TZID=Europe/Madrid;VALUE=DATE-TIME:20100113T190000
DTEND;TZID=Europe/Madrid;VALUE=DATE-TIME:20100113T200000
DTSTAMP;VALUE=DATE-TIME:20260421T224012Z
UID:cf881696bf43af400c17577f3cb91ef9
CREATED;VALUE=DATE-TIME:20100113T000000Z
CATEGORIES:Cursos,Agenda cultural
LOCATION:Centre Cívic El Gorg
ORGANIZER:Regidoria d'Educació en col·laboració amb el Consorci per a la Normalització Lingüística
URL:https://www.svmontalt.cat/document.php?id=3632
END:VEVENT
END:VCALENDAR