BEGIN:VCALENDAR
VERSION:2.0
PRODID:-//Plone.org//NONSGML plone.app.event//EN
X-WR-TIMEZONE:Europe/Madrid
BEGIN:VEVENT
SUMMARY:Curs de català
DTSTART;TZID=Europe/Madrid;VALUE=DATE-TIME:20100125T190000
DTEND;TZID=Europe/Madrid;VALUE=DATE-TIME:20100125T200000
DTSTAMP;VALUE=DATE-TIME:20260421T223841Z
UID:15d55f672b2b4e1e707e3c8d354415cb
CREATED;VALUE=DATE-TIME:20100125T000000Z
CATEGORIES:Cursos,Agenda cultural
LOCATION:Centre Cívic El Gorg
ORGANIZER:Regidoria d'Educació en col·laboració amb el Consorci per a la Normalització Lingüística
URL:https://www.svmontalt.cat/document.php?id=3635
END:VEVENT
END:VCALENDAR