BEGIN:VCALENDAR
VERSION:2.0
PRODID:-//Plone.org//NONSGML plone.app.event//EN
X-WR-TIMEZONE:Europe/Madrid
BEGIN:VEVENT
SUMMARY:Curs d'anglès per a viatjar
DTSTART;TZID=Europe/Madrid;VALUE=DATE-TIME:20100118T110000
DTEND;TZID=Europe/Madrid;VALUE=DATE-TIME:20100118T120000
DTSTAMP;VALUE=DATE-TIME:20260421T224154Z
UID:e4e31c1a15022769f6c60ddbfb03f59e
CREATED;VALUE=DATE-TIME:20100118T000000Z
CATEGORIES:Cursos,Agenda cultural
LOCATION:Centre Cívic El Gorg
ORGANIZER:Regidoria de Cultura i Escola d'idiomes Wellington
URL:https://www.svmontalt.cat/document.php?id=3639
END:VEVENT
END:VCALENDAR