BEGIN:VCALENDAR
VERSION:2.0
PRODID:-//Plone.org//NONSGML plone.app.event//EN
X-WR-TIMEZONE:Europe/Madrid
BEGIN:VEVENT
SUMMARY:Round tables en alemany
DTSTART;TZID=Europe/Madrid;VALUE=DATE-TIME:20100129T190000
DTEND;TZID=Europe/Madrid;VALUE=DATE-TIME:20100129T200000
DTSTAMP;VALUE=DATE-TIME:20260421T224026Z
UID:b2ad27939468e757964f40be2f9ae8d3
CREATED;VALUE=DATE-TIME:20100129T000000Z
CATEGORIES:Cursos,Agenda cultural
LOCATION:Biblioteca Municipal La Muntala
ORGANIZER:Biblioteca Municipal La Muntala
COMMENT:Preu: Gratuït
DESCRIPTION:A càrrec d'Steve Holliday
URL:https://www.svmontalt.cat/document.php?id=3641
END:VEVENT
END:VCALENDAR