BEGIN:VCALENDAR
VERSION:2.0
PRODID:-//Plone.org//NONSGML plone.app.event//EN
X-WR-TIMEZONE:Europe/Madrid
BEGIN:VEVENT
SUMMARY:Round tables en anglès
DTSTART;TZID=Europe/Madrid;VALUE=DATE-TIME:20100115T190000
DTEND;TZID=Europe/Madrid;VALUE=DATE-TIME:20100115T200000
DTSTAMP;VALUE=DATE-TIME:20260422T001848Z
UID:c878631133c49375e5aa2e57c10e4643
CREATED;VALUE=DATE-TIME:20100115T000000Z
CATEGORIES:Cursos,Agenda cultural
LOCATION:Biblioteca Municipal La Muntala
ORGANIZER:Biblioteca Municipal La Muntala
COMMENT:Preu: Gratuït
DESCRIPTION:A càrrec d'Anna Estivill
URL:https://www.svmontalt.cat/document.php?id=3643
END:VEVENT
END:VCALENDAR