BEGIN:VCALENDAR
VERSION:2.0
PRODID:-//Plone.org//NONSGML plone.app.event//EN
X-WR-TIMEZONE:Europe/Madrid
BEGIN:VEVENT
SUMMARY:Round tables en català
DTSTART;TZID=Europe/Madrid;VALUE=DATE-TIME:20100108T190000
DTEND;TZID=Europe/Madrid;VALUE=DATE-TIME:20100108T200000
DTSTAMP;VALUE=DATE-TIME:20260422T014651Z
UID:aed575cd36dd2421bc98e1660b285aa3
CREATED;VALUE=DATE-TIME:20100108T000000Z
CATEGORIES:Cursos,Agenda cultural
LOCATION:Biblioteca Municipal La Muntala
ORGANIZER:Biblioteca Municipal La Muntala
COMMENT:Preu: Gratuït
DESCRIPTION:A càrrec de Montse Macanà i Pius Morera
URL:https://www.svmontalt.cat/document.php?id=3644
END:VEVENT
END:VCALENDAR