BEGIN:VCALENDAR
VERSION:2.0
PRODID:-//Plone.org//NONSGML plone.app.event//EN
X-WR-TIMEZONE:Europe/Madrid
BEGIN:VEVENT
SUMMARY:1a Prova del Campionat de Catalunya de Vol Acrtobàtic Indoor
DTSTART;TZID=Europe/Madrid;VALUE=DATE-TIME:20100117T100000
DTEND;TZID=Europe/Madrid;VALUE=DATE-TIME:20100117T110000
DTSTAMP;VALUE=DATE-TIME:20260423T221156Z
UID:42ad2041b684a5c5ec94bff4ac5112d1
CREATED;VALUE=DATE-TIME:20100117T000000Z
CATEGORIES:Esports,Mostra,Agenda cultural
LOCATION:Pavelló Municipal Toni Sors
ORGANIZER:Àrea d'Aeromodelisme de la Federació Aèria Catalana en col·laboració amb l'Ajuntament de Sant Vicenç de Montalt
DESCRIPTION:Exhibició d'aeromodelisme
URL:https://www.svmontalt.cat/document.php?id=3651
END:VEVENT
END:VCALENDAR