BEGIN:VCALENDAR
VERSION:2.0
PRODID:-//Plone.org//NONSGML plone.app.event//EN
X-WR-TIMEZONE:Europe/Madrid
BEGIN:VEVENT
SUMMARY:XV Escudellada de Festa Major
DTSTART;TZID=Europe/Madrid;VALUE=DATE-TIME:20100117T140000
DTEND;TZID=Europe/Madrid;VALUE=DATE-TIME:20100117T150000
DTSTAMP;VALUE=DATE-TIME:20260419T211337Z
UID:5f5927437e580793a4c6e8c888aa462c
CREATED;VALUE=DATE-TIME:20100117T000000Z
CATEGORIES:Festa,Agenda cultural
LOCATION:Envelat, instal·lat a tocar del Centre Cívic El Gorg
ORGANIZER:Regidoria de Cultura i "Els Escudellaires"
COMMENT:Preu: 10 euros
URL:https://www.svmontalt.cat/document.php?id=3652
END:VEVENT
END:VCALENDAR