BEGIN:VCALENDAR
VERSION:2.0
PRODID:-//Plone.org//NONSGML plone.app.event//EN
X-WR-TIMEZONE:Europe/Madrid
BEGIN:VEVENT
SUMMARY:Curs d'anglès per a viatjar
DTSTART;TZID=Europe/Madrid;VALUE=DATE-TIME:20100201T110000
DTEND;TZID=Europe/Madrid;VALUE=DATE-TIME:20100201T120000
DTSTAMP;VALUE=DATE-TIME:20260422T031831Z
UID:ebb6a0e9f850eee0f00482ca9b5976c5
CREATED;VALUE=DATE-TIME:20100201T000000Z
CATEGORIES:Cursos,Agenda cultural
LOCATION:Centre Cívic El Gorg
ORGANIZER:Regidoria de Cultura i Escola d'idiomes Wellington
URL:https://www.svmontalt.cat/document.php?id=3745
END:VEVENT
END:VCALENDAR