BEGIN:VCALENDAR
VERSION:2.0
PRODID:-//Plone.org//NONSGML plone.app.event//EN
X-WR-TIMEZONE:Europe/Madrid
BEGIN:VEVENT
SUMMARY:Curs d'anglès per a viatjar
DTSTART;TZID=Europe/Madrid;VALUE=DATE-TIME:20100301T110000
DTEND;TZID=Europe/Madrid;VALUE=DATE-TIME:20100301T120000
DTSTAMP;VALUE=DATE-TIME:20260422T045002Z
UID:dc451498467d0e2396b744b87da8925b
CREATED;VALUE=DATE-TIME:20100301T000000Z
CATEGORIES:Cursos,Agenda cultural
LOCATION:Centre Cívic El Gorg
ORGANIZER:Regidoria de Cultura i Escola d'idiomes Wellington
URL:https://www.svmontalt.cat/document.php?id=3749
END:VEVENT
END:VCALENDAR