BEGIN:VCALENDAR
VERSION:2.0
PRODID:-//Plone.org//NONSGML plone.app.event//EN
X-WR-TIMEZONE:Europe/Madrid
BEGIN:VEVENT
SUMMARY:Curs d'anglès per a viatjar
DTSTART;TZID=Europe/Madrid;VALUE=DATE-TIME:20100315T110000
DTEND;TZID=Europe/Madrid;VALUE=DATE-TIME:20100315T120000
DTSTAMP;VALUE=DATE-TIME:20260422T001751Z
UID:a82d3413553d4aee4ba01766f64fff94
CREATED;VALUE=DATE-TIME:20100315T000000Z
CATEGORIES:Cursos,Agenda cultural
LOCATION:Centre Cívic El Gorg
ORGANIZER:Regidoria de Cultura i Escola d'idiomes Wellington
URL:https://www.svmontalt.cat/document.php?id=3751
END:VEVENT
END:VCALENDAR