BEGIN:VCALENDAR
VERSION:2.0
PRODID:-//Plone.org//NONSGML plone.app.event//EN
X-WR-TIMEZONE:Europe/Madrid
BEGIN:VEVENT
SUMMARY:Curs d'anglès per a viatjar
DTSTART;TZID=Europe/Madrid;VALUE=DATE-TIME:20100322T110000
DTEND;TZID=Europe/Madrid;VALUE=DATE-TIME:20100322T120000
DTSTAMP;VALUE=DATE-TIME:20260422T190746Z
UID:560848fba066d75d3c375e296acb1edb
CREATED;VALUE=DATE-TIME:20100322T000000Z
CATEGORIES:Cursos,Agenda cultural
LOCATION:Centre Cívic El Gorg
ORGANIZER:Regidoria de Cultura i Escola d'idiomes Wellington
URL:https://www.svmontalt.cat/document.php?id=3752
END:VEVENT
END:VCALENDAR