BEGIN:VCALENDAR
VERSION:2.0
PRODID:-//Plone.org//NONSGML plone.app.event//EN
X-WR-TIMEZONE:Europe/Madrid
BEGIN:VEVENT
SUMMARY:Curs de català
DTSTART;TZID=Europe/Madrid;VALUE=DATE-TIME:20100208T190000
DTEND;TZID=Europe/Madrid;VALUE=DATE-TIME:20100208T200000
DTSTAMP;VALUE=DATE-TIME:20260422T001529Z
UID:c22072395ae11d47b337aca2ada7f227
CREATED;VALUE=DATE-TIME:20100208T000000Z
CATEGORIES:Cursos,Agenda cultural
LOCATION:Centre Cívic El Gorg
ORGANIZER:Regidoria d'Educació en col·laboració amb el Consorci per a la Normalització Lingüística
URL:https://www.svmontalt.cat/document.php?id=3755
END:VEVENT
END:VCALENDAR