BEGIN:VCALENDAR
VERSION:2.0
PRODID:-//Plone.org//NONSGML plone.app.event//EN
X-WR-TIMEZONE:Europe/Madrid
BEGIN:VEVENT
SUMMARY:Round tables en català
DTSTART;TZID=Europe/Madrid;VALUE=DATE-TIME:20100212T190000
DTEND;TZID=Europe/Madrid;VALUE=DATE-TIME:20100212T200000
DTSTAMP;VALUE=DATE-TIME:20260422T001513Z
UID:bedc8096de26badc7ada11b0655460aa
CREATED;VALUE=DATE-TIME:20100212T000000Z
CATEGORIES:Cursos,Agenda cultural
LOCATION:Biblioteca Municipal La Muntala
ORGANIZER:Biblioteca Municipal La Muntala
COMMENT:Preu: Gratuït
DESCRIPTION:A càrrec de Montse Macanàs i Pius Morera
URL:https://www.svmontalt.cat/document.php?id=3772
END:VEVENT
END:VCALENDAR