BEGIN:VCALENDAR
VERSION:2.0
PRODID:-//Plone.org//NONSGML plone.app.event//EN
X-WR-TIMEZONE:Europe/Madrid
BEGIN:VEVENT
SUMMARY:Round tables en alemany
DTSTART;TZID=Europe/Madrid;VALUE=DATE-TIME:20100212T190000
DTEND;TZID=Europe/Madrid;VALUE=DATE-TIME:20100212T200000
DTSTAMP;VALUE=DATE-TIME:20260422T001200Z
UID:788bcad7dc06d50c8259d9c6c86ef0c4
CREATED;VALUE=DATE-TIME:20100212T000000Z
CATEGORIES:Cursos,Agenda cultural
LOCATION:Biblioteca Municipal La Muntala
ORGANIZER:Biblioteca Municipal La Muntala
COMMENT:Preu: Gratuït
DESCRIPTION:A càrrec d'Steve Holliday
URL:https://www.svmontalt.cat/document.php?id=3773
END:VEVENT
END:VCALENDAR