BEGIN:VCALENDAR
VERSION:2.0
PRODID:-//Plone.org//NONSGML plone.app.event//EN
X-WR-TIMEZONE:Europe/Madrid
BEGIN:VEVENT
SUMMARY:Curs de català
DTSTART;TZID=Europe/Madrid;VALUE=DATE-TIME:20100303T190000
DTEND;TZID=Europe/Madrid;VALUE=DATE-TIME:20100303T200000
DTSTAMP;VALUE=DATE-TIME:20260421T224125Z
UID:b224ec22f195292c1449322e3e32aabe
CREATED;VALUE=DATE-TIME:20100303T000000Z
CATEGORIES:Cursos,Agenda cultural
LOCATION:Centre Cívic El Gorg
ORGANIZER:Regidoria d'Educació en col·laboració amb el Consorci per a la Normalització Lingüística
URL:https://www.svmontalt.cat/document.php?id=3859
END:VEVENT
END:VCALENDAR