BEGIN:VCALENDAR
VERSION:2.0
PRODID:-//Plone.org//NONSGML plone.app.event//EN
X-WR-TIMEZONE:Europe/Madrid
BEGIN:VEVENT
SUMMARY:Curs de català
DTSTART;TZID=Europe/Madrid;VALUE=DATE-TIME:20100310T190000
DTEND;TZID=Europe/Madrid;VALUE=DATE-TIME:20100310T200000
DTSTAMP;VALUE=DATE-TIME:20260422T001912Z
UID:f6902637801501b7ae242bfa5f2de1a5
CREATED;VALUE=DATE-TIME:20100310T000000Z
CATEGORIES:Cursos,Agenda cultural
LOCATION:Centre Cívic El Gorg
ORGANIZER:Regidoria d'Educació en col·laboració amb el Consorci per a la Normalització Lingüística
URL:https://www.svmontalt.cat/document.php?id=3861
END:VEVENT
END:VCALENDAR