BEGIN:VCALENDAR
VERSION:2.0
PRODID:-//Plone.org//NONSGML plone.app.event//EN
X-WR-TIMEZONE:Europe/Madrid
BEGIN:VEVENT
SUMMARY:Curs de català
DTSTART;TZID=Europe/Madrid;VALUE=DATE-TIME:20100322T190000
DTEND;TZID=Europe/Madrid;VALUE=DATE-TIME:20100322T200000
DTSTAMP;VALUE=DATE-TIME:20260421T223957Z
UID:8b7e4e14eed505c13fab1965cc598de2
CREATED;VALUE=DATE-TIME:20100322T000000Z
CATEGORIES:Cursos,Agenda cultural
LOCATION:Centre Cívic El Gorg
ORGANIZER:Regidoria d'Educació en col·laboració amb el Consorci per a la Normalització Lingüística
URL:https://www.svmontalt.cat/document.php?id=3864
END:VEVENT
END:VCALENDAR