BEGIN:VCALENDAR
VERSION:2.0
PRODID:-//Plone.org//NONSGML plone.app.event//EN
X-WR-TIMEZONE:Europe/Madrid
BEGIN:VEVENT
SUMMARY:Club de feina
DTSTART;TZID=Europe/Madrid;VALUE=DATE-TIME:20100303T100000
DTEND;TZID=Europe/Madrid;VALUE=DATE-TIME:20100303T110000
DTSTAMP;VALUE=DATE-TIME:20260419T220445Z
UID:3a338fdd0ba9445c67007fef1737e23f
CREATED;VALUE=DATE-TIME:20100303T000000Z
LOCATION:Telecentre
ORGANIZER:Regidoria de Promoció Econòmica
COMMENT:Preu: Gratuït
Durada: De 10 del matí a 1 del migdia
URL:https://www.svmontalt.cat/document.php?id=3869
END:VEVENT
END:VCALENDAR